BEGIN:VCALENDAR
VERSION:2.0
PRODID:-//Stadtbücherei Eckernförde - ECPv6.15.20//NONSGML v1.0//EN
CALSCALE:GREGORIAN
METHOD:PUBLISH
X-WR-CALNAME:Stadtbücherei Eckernförde
X-ORIGINAL-URL:https://stadtbuecherei-eckernfoerde.de
X-WR-CALDESC:Veranstaltungen für Stadtbücherei Eckernförde
REFRESH-INTERVAL;VALUE=DURATION:PT1H
X-Robots-Tag:noindex
X-PUBLISHED-TTL:PT1H
BEGIN:VTIMEZONE
TZID:Europe/Helsinki
BEGIN:DAYLIGHT
TZOFFSETFROM:+0200
TZOFFSETTO:+0300
TZNAME:EEST
DTSTART:20250330T010000
END:DAYLIGHT
BEGIN:STANDARD
TZOFFSETFROM:+0300
TZOFFSETTO:+0200
TZNAME:EET
DTSTART:20251026T010000
END:STANDARD
BEGIN:DAYLIGHT
TZOFFSETFROM:+0200
TZOFFSETTO:+0300
TZNAME:EEST
DTSTART:20260329T010000
END:DAYLIGHT
BEGIN:STANDARD
TZOFFSETFROM:+0300
TZOFFSETTO:+0200
TZNAME:EET
DTSTART:20261025T010000
END:STANDARD
BEGIN:DAYLIGHT
TZOFFSETFROM:+0200
TZOFFSETTO:+0300
TZNAME:EEST
DTSTART:20270328T010000
END:DAYLIGHT
BEGIN:STANDARD
TZOFFSETFROM:+0300
TZOFFSETTO:+0200
TZNAME:EET
DTSTART:20271031T010000
END:STANDARD
END:VTIMEZONE
BEGIN:VEVENT
DTSTART;VALUE=DATE:20260421
DTEND;VALUE=DATE:20260426
DTSTAMP:20260422T222049
CREATED:20251203T131301Z
LAST-MODIFIED:20251203T131301Z
UID:11181-1776729600-1777161599@stadtbuecherei-eckernfoerde.de
SUMMARY:Flohmarkt
DESCRIPTION:Wir machen Frühjahrsputz und werfen Bücher\, Filme und Spiele raus!\nEine Woche können Sie auf unserem Flohmarkt neue Schätze zu kleinen Preisen entdecken.\nEinfach vorbeikommen\, stöbern und fündig werden!\nEintritt frei\, keine Anmeldung nötig.
URL:https://stadtbuecherei-eckernfoerde.de/veranstaltung/flohmarkt-2/
CATEGORIES:Flohmarkt
ATTACH;FMTTYPE=image/png:https://stadtbuecherei-eckernfoerde.de/wp-content/uploads/2025/02/Flohmarkt-e1738753727150.png
END:VEVENT
END:VCALENDAR