BEGIN:VCALENDAR
VERSION:2.0
PRODID:-//Stadtbücherei Eckernförde - ECPv6.15.20//NONSGML v1.0//EN
CALSCALE:GREGORIAN
METHOD:PUBLISH
X-WR-CALNAME:Stadtbücherei Eckernförde
X-ORIGINAL-URL:https://stadtbuecherei-eckernfoerde.de
X-WR-CALDESC:Veranstaltungen für Stadtbücherei Eckernförde
REFRESH-INTERVAL;VALUE=DURATION:PT1H
X-Robots-Tag:noindex
X-PUBLISHED-TTL:PT1H
BEGIN:VTIMEZONE
TZID:Europe/Helsinki
BEGIN:DAYLIGHT
TZOFFSETFROM:+0200
TZOFFSETTO:+0300
TZNAME:EEST
DTSTART:20250330T010000
END:DAYLIGHT
BEGIN:STANDARD
TZOFFSETFROM:+0300
TZOFFSETTO:+0200
TZNAME:EET
DTSTART:20251026T010000
END:STANDARD
BEGIN:DAYLIGHT
TZOFFSETFROM:+0200
TZOFFSETTO:+0300
TZNAME:EEST
DTSTART:20260329T010000
END:DAYLIGHT
BEGIN:STANDARD
TZOFFSETFROM:+0300
TZOFFSETTO:+0200
TZNAME:EET
DTSTART:20261025T010000
END:STANDARD
BEGIN:DAYLIGHT
TZOFFSETFROM:+0200
TZOFFSETTO:+0300
TZNAME:EEST
DTSTART:20270328T010000
END:DAYLIGHT
BEGIN:STANDARD
TZOFFSETFROM:+0300
TZOFFSETTO:+0200
TZNAME:EET
DTSTART:20271031T010000
END:STANDARD
END:VTIMEZONE
BEGIN:VEVENT
DTSTART;TZID=Europe/Helsinki:20261007T183000
DTEND;TZID=Europe/Helsinki:20261007T203000
DTSTAMP:20260421T113022
CREATED:20260416T072341Z
LAST-MODIFIED:20260416T072341Z
UID:11552-1791397800-1791405000@stadtbuecherei-eckernfoerde.de
SUMMARY:Möwen\, Seegang\, falsche Fährte - Lesung mit Inga Schneider
DESCRIPTION:Der dritte Fall der Hobbyspürnase Anni Gade \nAnni braucht nach ihren nervenaufreibenden Abenteuern dringend etwas Erholung. Daher unterstützt sie ihre beste Freundin Nele. Die sucht nach dem perfekten Bild\, um an einem Fotowettbewerb zum Thema „Lost Places“ teilzunehmen. Zunächst haben die beiden jede Menge Spaß\, doch dann der Schock: Auf Motivjagd in einer verlassenen Mühle verschwindet Nele plötzlich spurlos. Lediglich ihre Kamera findet Anni. Sofort informiert sie Kommissar Jan Christiansen\, der die Ermittlung einleitet. \nAber Anni wäre nicht Anni\, wenn sie nicht auch ihre Hobbyspürnase in den Fall stecken würde. Schließlich geht es hier um ihre beste Freundin! Auf ihrer Spurensuche entlang der deutsch-dänischen Grenze entdeckt sie nicht nur ein mysteriöses Graffiti in der Mühle\, sondern auch aufschlussreiche Fotos auf Neles Speicherkarte. Wer ist der Unbekannte auf den Bildern? Hat er etwas mit Neles Verschwinden zu tun? Ein Wettlauf gegen die Zeit beginnt. Doch sind Anni und Kommissar Christiansen auf der richtigen Fährte? \nIm Rahmen der Programmreihe von hier. Autorinnen und Autoren aus der Region \nZur Autorin:\nInga Schneider hat „Hygge“ im Blut. Dänemark kennt sie ganz genau\, studierte dort einst Kultur und Sprache und teilt die Vorliebe für Laktritze\, Zimtschnecken und die Königsfamilie. \nSeit vielen Jahren arbeitet sie als Journalistin in Schleswig-Holstein und Dänemark. Sitzt sie nicht gerade am Schreibtisch\, ist sie gerne am und auf dem Meer unterwegs\, liest oder trifft sich mit Freunden und/oder genießt das Familienleben. Seit 2021 veröffentlicht sie erfolgreich mehrere Romance- und Cosy Crime-Romane\, die ebenfalls an der schleswig-holsteinischen Ostseeküste und in Dänemark spielen. \nEintritt frei\, ein Hut geht rum \nTicketreservierung
URL:https://stadtbuecherei-eckernfoerde.de/veranstaltung/moewen-seegang-falsche-faehrte-lesung-mit-inga-schneider/
CATEGORIES:Lesung
ATTACH;FMTTYPE=image/png:https://stadtbuecherei-eckernfoerde.de/wp-content/uploads/2026/04/Inga_Schneider_c_privat-e1776324196158.png
END:VEVENT
BEGIN:VEVENT
DTSTART;TZID=Europe/Helsinki:20261008T143000
DTEND;TZID=Europe/Helsinki:20261008T160000
DTSTAMP:20260421T113022
CREATED:20260407T081746Z
LAST-MODIFIED:20260407T081746Z
UID:11510-1791469800-1791475200@stadtbuecherei-eckernfoerde.de
SUMMARY:Stricken & Schnacken
DESCRIPTION:Monatlich treffen sich Strickbegeisterte zum gemeinsamen Handarbeiten. Sie können Ihre eigenen Strickprojekte mitnehmen oder etwas Neues anfangen. Und falls es mal irgendwo hakt oder ein paar Maschen verloren gehen: die anwesenden Strickexpertinnen geben gerne Tipps und Tricks. \nEintritt frei\, ohne Anmeldung
URL:https://stadtbuecherei-eckernfoerde.de/veranstaltung/stricken-schnacken-8/
CATEGORIES:Mitmach-Veranstaltung
ATTACH;FMTTYPE=image/png:https://stadtbuecherei-eckernfoerde.de/wp-content/uploads/2025/10/Stricken_Schnacken-e1761645175136.png
END:VEVENT
BEGIN:VEVENT
DTSTART;TZID=Europe/Helsinki:20261012T140000
DTEND;TZID=Europe/Helsinki:20261012T150000
DTSTAMP:20260421T113022
CREATED:20260312T072035Z
LAST-MODIFIED:20260312T072035Z
UID:11456-1791813600-1791817200@stadtbuecherei-eckernfoerde.de
SUMMARY:Escape Game für Minecraft-Fans: Stoppt den Hackerangriff!
DESCRIPTION:Der fiese Hacker Pharao verbreitet einen Megavirus in ganz Paris!\nSchafft ihr es gemeinsam\, ihn rechtzeitig aufzuhalten und die Stadt zu retten? \nFür alle zwischen 8 und 14 Jahren. \nEintritt frei.\nNur mit Anmeldung: Ticketreservierung
URL:https://stadtbuecherei-eckernfoerde.de/veranstaltung/escape-game-fuer-minecraft-fans-stoppt-den-hackerangriff/
CATEGORIES:Für Kids,Spieleveranstaltung
ATTACH;FMTTYPE=image/png:https://stadtbuecherei-eckernfoerde.de/wp-content/uploads/2026/03/EscapeGame_Symbolbild-e1772784090172.png
END:VEVENT
BEGIN:VEVENT
DTSTART;TZID=Europe/Helsinki:20261016T183000
DTEND;TZID=Europe/Helsinki:20261016T203000
DTSTAMP:20260421T113022
CREATED:20260219T142229Z
LAST-MODIFIED:20260416T090737Z
UID:11407-1792175400-1792182600@stadtbuecherei-eckernfoerde.de
SUMMARY:Lesung mit Michael Gorka: eichelartig
DESCRIPTION:Michael Gorka\, 43 aus Rendsburg liest und präsentiert Texte aus seinen ersten beiden Büchern „eichelartig“ und „Ein Buch\, … denn es ist ja eins!“. Genauso\, wie der Titel\, sind auch die Geschichten. Mal außergewöhnlich\, mal sozialkritisch\, mal voll auf die 12\, aber definitiv immer eines\, unheimlich lustig. Sein Humor liegt irgendwo in der groben Richtung von Torsten Sträter und Horst Evers\, wobei dies nur eine Richtungsangabe ist\, denn er hat auch seinen ganz eigenen Stil. Der Alltag wird messerscharf beobachtet und mit bester Comedy garniert\, damit das Publikum einen unvergesslichen hat. \nMit seinem Autorenkollegen Heinrich tourt Gorka quer durch Norddeutschland und kann auf unzählige großartige Auftritte und sogar Radio und TV-Ausstrahlungen zurückblicken. Zusätzlich begeistert er als Solokünstler das Publikum und sorgt mit seinen Büchern für sehr kurzweilige Veranstaltungen.\nMichael serviert Comedy\, die sitzt und gibt den Gästen eine Veranstaltung\, nach der man sich denkt: Genau so bekloppt ist das Leben\, und genau deshalb muss man drüber lachen. \nIm Rahmen von von hier. Autorinnen und Autoren aus der Region. Eine Kooperation mit der Kulturbeauftragten der Stadt Eckernförde und der Buchhandlung Lobenberg. \nEinlass 18.15 Uhr \nEintritt frei\, ein Hut geht rum \nTicketreservierung
URL:https://stadtbuecherei-eckernfoerde.de/veranstaltung/lesung-mit-michael-gorka-eichelartig/
CATEGORIES:Lesung
ATTACH;FMTTYPE=image/png:https://stadtbuecherei-eckernfoerde.de/wp-content/uploads/2026/02/Michael_Gorka_Autorenbild-1-e1776330419346.png
END:VEVENT
BEGIN:VEVENT
DTSTART;TZID=Europe/Helsinki:20261019T140000
DTEND;TZID=Europe/Helsinki:20261019T150000
DTSTAMP:20260421T113022
CREATED:20260312T071624Z
LAST-MODIFIED:20260312T071624Z
UID:11454-1792418400-1792422000@stadtbuecherei-eckernfoerde.de
SUMMARY:Abenteuer Schnitzeljagd: Die verschwundene Mumie
DESCRIPTION:Der ägyptische Gott Anubis steckt in Schwierigkeiten und bittet euch um Hilfe: Die Mumienprinzessin Nafi ist verschwunden.\nFolgt den Spuren durch das Tal der Pyramiden auf der Suche nach der verschwundenen Mumie! \nFür alle zwischen 7 und 11 Jahren. \nEintritt frei\nNur mit Anmeldung:  Ticketreservierung
URL:https://stadtbuecherei-eckernfoerde.de/veranstaltung/abenteuer-schnitzeljagd-die-verschwundene-mumie/
CATEGORIES:Für Kids,Spieleveranstaltung
ATTACH;FMTTYPE=image/png:https://stadtbuecherei-eckernfoerde.de/wp-content/uploads/2026/03/Schnitzeljagd_Symbolbild-e1772783633967.png
END:VEVENT
BEGIN:VEVENT
DTSTART;TZID=Europe/Helsinki:20261020T183000
DTEND;TZID=Europe/Helsinki:20261020T203000
DTSTAMP:20260421T113022
CREATED:20260128T113528Z
LAST-MODIFIED:20260128T113528Z
UID:11359-1792521000-1792528200@stadtbuecherei-eckernfoerde.de
SUMMARY:Es war einmal ... Baba Yaga\, Koschtschei und Feuervogel - Märchen aus dem alten Russland
DESCRIPTION:Im zweiten Teil der Märchentrilogie entführt Ingeborg Tophinke ihre Zuhörer und Zuhörerinnen in die zauberhafte Welt der russischen Märchen. \nEinlass 18.15 Uhr\, Eintritt frei\nTicketreservierung
URL:https://stadtbuecherei-eckernfoerde.de/veranstaltung/es-war-einmal-baba-yaga-koschtschei-und-feuervogel-maerchen-aus-dem-alten-russland/
CATEGORIES:Lesung
ATTACH;FMTTYPE=image/png:https://stadtbuecherei-eckernfoerde.de/wp-content/uploads/2026/01/Symbolbild_russische_Maerchen-e1769600111863.png
END:VEVENT
BEGIN:VEVENT
DTSTART;TZID=Europe/Helsinki:20261021T163000
DTEND;TZID=Europe/Helsinki:20261021T173000
DTSTAMP:20260421T113022
CREATED:20260312T072411Z
LAST-MODIFIED:20260312T072411Z
UID:11458-1792600200-1792603800@stadtbuecherei-eckernfoerde.de
SUMMARY:Untold - Das Würfel-Abenteuer wartet
DESCRIPTION:Mutige Raumschiffbesatzung in einer Alien-Invasion? Junge Abenteurer auf magischer Reise? Kluges Ermittler-Duo auf den Spuren einer Verschwörung?\nAlles ist möglich – ihr entscheidet und erzählt mit Hilfe von Story-Cubes gemeinsam EURE Geschichte mit EUREN Helden! \nFür alle zwischen 10 und 14 Jahren \nEintritt frei.\nNur mit Anmeldung: Ticketreservierung
URL:https://stadtbuecherei-eckernfoerde.de/veranstaltung/untold-das-wuerfel-abenteuer-wartet/
CATEGORIES:Für Kids,Spieleveranstaltung
ATTACH;FMTTYPE=image/png:https://stadtbuecherei-eckernfoerde.de/wp-content/uploads/2026/03/Untold_Spiel_Symbolbild-e1772784434238.png
END:VEVENT
BEGIN:VEVENT
DTSTART;TZID=Europe/Helsinki:20261027T183000
DTEND;TZID=Europe/Helsinki:20261027T203000
DTSTAMP:20260421T113022
CREATED:20260416T090119Z
LAST-MODIFIED:20260420T110440Z
UID:11558-1793125800-1793133000@stadtbuecherei-eckernfoerde.de
SUMMARY:Wurzeln im Wind - Lesung mit Vera Ukuwrere
DESCRIPTION:Vera Ukuwrere lebte acht Jahre lang in einem Village im Busch von Nigeria. Gemeinsam mit ihrer Großmutter und im Einklang mit der Natur. Als ihre Mutter\, die sie zuvor nicht kennengelernt hatte\, sie zunächst in ein Internat schickt und später zu sich und ihrem Mann nach Deutschland holt\, verliert sie ihren Halt und ihre Wurzeln\, erlebt Ausgrenzung und Einsamkeit. In Nordfriesland erfährt sie aber auch Zuwendung und Wärme durch eine mütterliche Nachbarin und Freundin\, die ihr beisteht und ihr hilft\, selbstbewusster zu werden und ihre eigene Stärke zu erkennen. \nAls sie schwanger wird\, findet sie sie Kraft\, sich dem Einfluss ihrer Mutter zu entziehen. Sie bricht den Kontakt zum Vater ihrer Tochter ab und konzentriert und sich mehr und mehr auf ihre eigenen Ressourcen und ihren Lebenswillen. Ohne sich ihrer persönlichen und geografischen Wurzeln bewusst zu sein\, muss sie sich ihr Leben von Grund auf neu aufbauen. \nHeute ist Vera ein strahlender und inspirierender Mensch. Sie ist selbständige Tagesmutter nahe Glücksburg\, nah an der Ostsee\, die sie liebt. Sie bringt Kindern das Laufen bei\, ein Zufall? Wie das alles gelingen konnte\, erzählt sie in diesem Buch. (Verlagstext) \nIm Rahmen der Programmreihe von hier. Autorinnen und Autoren aus der Region \nEintritt frei\, ein Hut geht rum \nTicketreservierung
URL:https://stadtbuecherei-eckernfoerde.de/veranstaltung/wurzeln-im-wind-lesung-mit-vera-ukuwrere/
CATEGORIES:Lesung
ATTACH;FMTTYPE=image/png:https://stadtbuecherei-eckernfoerde.de/wp-content/uploads/2026/04/Portraet_Vera_Ukuwrere-1-e1776683069689.png
END:VEVENT
BEGIN:VEVENT
DTSTART;TZID=Europe/Helsinki:20261029T160000
DTEND;TZID=Europe/Helsinki:20261029T220000
DTSTAMP:20260421T113022
CREATED:20251128T123419Z
LAST-MODIFIED:20251128T123419Z
UID:11147-1793289600-1793311200@stadtbuecherei-eckernfoerde.de
SUMMARY:Pixel und Pöppel
DESCRIPTION:Pixel und Pöppel\n\n\n\n\nDer Spieleabend in der Bücherei\nJeden letzten Donnerstag im Monat! \nMehr Infos \nEine Anmeldung ist nicht notwendig.
URL:https://stadtbuecherei-eckernfoerde.de/veranstaltung/pixel-und-poeppel-21/
CATEGORIES:Spieleveranstaltung
ATTACH;FMTTYPE=image/jpeg:https://stadtbuecherei-eckernfoerde.de/wp-content/uploads/2024/12/Pixel-und-Poeppel-Logo.jpg
END:VEVENT
END:VCALENDAR